BEGIN:VCALENDAR
VERSION:2.0
PRODID:-//www.pburgccog.org//NONSGML kigkonsult.se iCalcreator 2.39.1//
CALSCALE:GREGORIAN
METHOD:PUBLISH
UID:ba30a68d-bc80-460e-bfd4-50e8d5d6714b
X-WR-CALNAME:www.pburgccog.org
X-WR-CALDESC:www.pburgccog.org
X-WR-TIMEZONE:America/Los_Angeles
X-LIC-LOCATION:America/Los_Angeles
BEGIN:VEVENT
UID:a73e67d5-1557-4a54-8ff8-01544bbdcd52
DTSTAMP:20260422T144436Z
CLASS:PUBLIC
DTSTART;TZID=America/Los_Angeles:20260422T183000
DTEND;TZID=America/Los_Angeles:20260422T201500
SUMMARY:Teens For Christ Youth Meeting
TRANSP:OPAQUE
BEGIN:VALARM
ACTION:DISPLAY
DESCRIPTION:Teens For Christ Youth Meeting
TRIGGER:-PT15M
END:VALARM
END:VEVENT
END:VCALENDAR
